BEGIN:VCALENDAR
VERSION:2.0
PRODID:-//Neighborhood Planning Unit M - ECPv6.15.17//NONSGML v1.0//EN
CALSCALE:GREGORIAN
METHOD:PUBLISH
X-WR-CALNAME:Neighborhood Planning Unit M
X-ORIGINAL-URL:https://www.npumatlanta.org
X-WR-CALDESC:Events for Neighborhood Planning Unit M
REFRESH-INTERVAL;VALUE=DURATION:PT1H
X-Robots-Tag:noindex
X-PUBLISHED-TTL:PT1H
BEGIN:VTIMEZONE
TZID:America/New_York
BEGIN:DAYLIGHT
TZOFFSETFROM:-0500
TZOFFSETTO:-0400
TZNAME:EDT
DTSTART:20200308T070000
END:DAYLIGHT
BEGIN:STANDARD
TZOFFSETFROM:-0400
TZOFFSETTO:-0500
TZNAME:EST
DTSTART:20201101T060000
END:STANDARD
BEGIN:DAYLIGHT
TZOFFSETFROM:-0500
TZOFFSETTO:-0400
TZNAME:EDT
DTSTART:20210314T070000
END:DAYLIGHT
BEGIN:STANDARD
TZOFFSETFROM:-0400
TZOFFSETTO:-0500
TZNAME:EST
DTSTART:20211107T060000
END:STANDARD
BEGIN:DAYLIGHT
TZOFFSETFROM:-0500
TZOFFSETTO:-0400
TZNAME:EDT
DTSTART:20220313T070000
END:DAYLIGHT
BEGIN:STANDARD
TZOFFSETFROM:-0400
TZOFFSETTO:-0500
TZNAME:EST
DTSTART:20221106T060000
END:STANDARD
BEGIN:DAYLIGHT
TZOFFSETFROM:-0500
TZOFFSETTO:-0400
TZNAME:EDT
DTSTART:20230312T070000
END:DAYLIGHT
BEGIN:STANDARD
TZOFFSETFROM:-0400
TZOFFSETTO:-0500
TZNAME:EST
DTSTART:20231105T060000
END:STANDARD
BEGIN:DAYLIGHT
TZOFFSETFROM:-0500
TZOFFSETTO:-0400
TZNAME:EDT
DTSTART:20240310T070000
END:DAYLIGHT
BEGIN:STANDARD
TZOFFSETFROM:-0400
TZOFFSETTO:-0500
TZNAME:EST
DTSTART:20241103T060000
END:STANDARD
BEGIN:DAYLIGHT
TZOFFSETFROM:-0500
TZOFFSETTO:-0400
TZNAME:EDT
DTSTART:20250309T070000
END:DAYLIGHT
BEGIN:STANDARD
TZOFFSETFROM:-0400
TZOFFSETTO:-0500
TZNAME:EST
DTSTART:20251102T060000
END:STANDARD
BEGIN:DAYLIGHT
TZOFFSETFROM:-0500
TZOFFSETTO:-0400
TZNAME:EDT
DTSTART:20260308T070000
END:DAYLIGHT
BEGIN:STANDARD
TZOFFSETFROM:-0400
TZOFFSETTO:-0500
TZNAME:EST
DTSTART:20261101T060000
END:STANDARD
END:VTIMEZONE
BEGIN:VEVENT
DTSTART;TZID=America/New_York:20250717T180000
DTEND;TZID=America/New_York:20250717T180000
DTSTAMP:20260423T224716
CREATED:20250521T153817Z
LAST-MODIFIED:20250521T153845Z
UID:5220-1752775200-1752775200@www.npumatlanta.org
SUMMARY:July 2025 Public Safety Meeting
DESCRIPTION:NPU M’s Public Safety Committee regularly meets on the third Thursday of each month at 6:00pm \nFind more info and the Zoom link to join here.
URL:https://www.npumatlanta.org/event/july-2025-public-safety-meeting/
LOCATION:Zoom
CATEGORIES:Committee Meeting
END:VEVENT
BEGIN:VEVENT
DTSTART;TZID=America/New_York:20250619T180000
DTEND;TZID=America/New_York:20250619T180000
DTSTAMP:20260423T224716
CREATED:20250521T153200Z
LAST-MODIFIED:20250521T153200Z
UID:5217-1750356000-1750356000@www.npumatlanta.org
SUMMARY:June 2025 Public Safety Meeting
DESCRIPTION:NPU M’s Public Safety Committee regularly meets on the third Thursday of each month at 6:00pm \nFind more info and the Zoom link to join here.
URL:https://www.npumatlanta.org/event/june-2025-public-safety-meeting/
LOCATION:Zoom
CATEGORIES:Committee Meeting
END:VEVENT
BEGIN:VEVENT
DTSTART;TZID=America/New_York:20250210T183000
DTEND;TZID=America/New_York:20250210T183000
DTSTAMP:20260423T224716
CREATED:20250112T203149Z
LAST-MODIFIED:20250112T203730Z
UID:5134-1739212200-1739212200@www.npumatlanta.org
SUMMARY:February 2025 Land Use & Executive Committees Meeting
DESCRIPTION:Find more about the Land Use and Executive Committees on their respective pages. \nZoom Link
URL:https://www.npumatlanta.org/event/february-2025-land-use-executive-committees-meeting/
LOCATION:Zoom
CATEGORIES:Committee Meeting
END:VEVENT
BEGIN:VEVENT
DTSTART;TZID=America/New_York:20250116T180000
DTEND;TZID=America/New_York:20250116T180000
DTSTAMP:20260423T224716
CREATED:20250112T203556Z
LAST-MODIFIED:20250112T203556Z
UID:5136-1737050400-1737050400@www.npumatlanta.org
SUMMARY:January 2025 Public Safety Committee Meeting
DESCRIPTION:Find more about the Public Safety Committee. \nZoom Link
URL:https://www.npumatlanta.org/event/january-2025-public-safety-committee-meeting/
LOCATION:Zoom
CATEGORIES:Committee Meeting
END:VEVENT
BEGIN:VEVENT
DTSTART;TZID=America/New_York:20250113T183000
DTEND;TZID=America/New_York:20250113T183000
DTSTAMP:20260423T224716
CREATED:20250112T201627Z
LAST-MODIFIED:20250112T203703Z
UID:5127-1736793000-1736793000@www.npumatlanta.org
SUMMARY:January 2025 Land Use & Executive Committees Meeting
DESCRIPTION:Find more about the Land Use and Executive Committees on their respective pages. \nZoom Link
URL:https://www.npumatlanta.org/event/january-2025-land-use-executive-committees-meeting/
LOCATION:Zoom
CATEGORIES:Committee Meeting
END:VEVENT
BEGIN:VEVENT
DTSTART;TZID=America/New_York:20211118T180000
DTEND;TZID=America/New_York:20211118T180000
DTSTAMP:20260423T224716
CREATED:20211117T191929Z
LAST-MODIFIED:20211117T192127Z
UID:4075-1637258400-1637258400@www.npumatlanta.org
SUMMARY:November 2021 Public Safety Committee Meeting
DESCRIPTION:NPU M Public Safety Committee Agenda – November 18\, 2021
URL:https://www.npumatlanta.org/event/november-2021-public-safety-committee-meeting/
CATEGORIES:Committee Meeting
END:VEVENT
BEGIN:VEVENT
DTSTART;TZID=America/New_York:20210913T183000
DTEND;TZID=America/New_York:20210913T183000
DTSTAMP:20260423T224716
CREATED:20210912T193045Z
LAST-MODIFIED:20210912T193155Z
UID:4034-1631557800-1631557800@www.npumatlanta.org
SUMMARY:September 2021 Land Use & Executive Committee Meeting
DESCRIPTION:
URL:https://www.npumatlanta.org/event/september-2021-land-use-executive-committee-meeting/
LOCATION:Zoom
CATEGORIES:Committee Meeting
END:VEVENT
BEGIN:VEVENT
DTSTART;TZID=America/New_York:20210819T180000
DTEND;TZID=America/New_York:20210819T180000
DTSTAMP:20260423T224716
CREATED:20210819T213403Z
LAST-MODIFIED:20210819T213435Z
UID:4015-1629396000-1629396000@www.npumatlanta.org
SUMMARY:August 2021 Public Safety Committee Meeting
DESCRIPTION:NPU M Public Safety Committee Agenda – August 19\, 2021 \nNPU M Public Safety Committee Minutes – July 15\, 2021 \nCity of Atlanta – Director\, Mayor’s Office of Violence Reduction
URL:https://www.npumatlanta.org/event/august-2021-public-safety-committee-meeting/
CATEGORIES:Committee Meeting
END:VEVENT
BEGIN:VEVENT
DTSTART;TZID=America/New_York:20210415T180000
DTEND;TZID=America/New_York:20210415T180000
DTSTAMP:20260423T224716
CREATED:20210414T164235Z
LAST-MODIFIED:20210414T185613Z
UID:3874-1618509600-1618509600@www.npumatlanta.org
SUMMARY:April 2021 Public Safety Committee Meeting
DESCRIPTION:NPU M April 2021 Public Safety Agenda
URL:https://www.npumatlanta.org/event/public-safety-2021-04/
CATEGORIES:Committee Meeting
END:VEVENT
END:VCALENDAR